BEGIN:VCALENDAR
VERSION:2.0
PRODID:-//Highland Park School District - ECPv6.15.17.1//NONSGML v1.0//EN
CALSCALE:GREGORIAN
METHOD:PUBLISH
X-ORIGINAL-URL:https://hipark.org
X-WR-CALDESC:Events for Highland Park School District
REFRESH-INTERVAL;VALUE=DURATION:PT1H
X-Robots-Tag:noindex
X-PUBLISHED-TTL:PT1H
BEGIN:VTIMEZONE
TZID:UTC
BEGIN:STANDARD
TZOFFSETFROM:+0000
TZOFFSETTO:+0000
TZNAME:UTC
DTSTART:20240101T000000
END:STANDARD
END:VTIMEZONE
BEGIN:VEVENT
DTSTART;TZID=UTC:20250909T180000
DTEND;TZID=UTC:20250909T180000
DTSTAMP:20260423T160716
CREATED:20250930T192835Z
LAST-MODIFIED:20250930T195725Z
UID:2077-1757440800-1757440800@hipark.org
SUMMARY:HPSD BOE Regular Meeting Public Notice
DESCRIPTION:LOCATION OF MEETING:\nThe Board of Education Members Meet at\nBarber Preparatory Academy (In Person)\n45 E. Buena Vista St. Highland Park\, MI 48203 \nJoin Zoom Meeting \nhttps://us06web.zoom.us/j/84011473307?pwd=QmpGaGM3TlMvOEYwU0pVa3R4N2hYQT09 \nMeeting ID: 840 1147 3307  Passcode: 955655 \nTIME OF MEETING:\n6:00 p.m. \nTELEPHONE NUMBER OF THE PRINCIPAL OFFICE OF THE BOARD OF EDUCATION:\n313-402-0266 \nTHE BOARD MINUTES ARE LOCATED AND AVAILABLE FOR INSPECTION AT THE HPSD OFFICE OF THE BOARD OF EDUCATION:\n12360 Woodward Avenue Highland Park\, MI 48203 \nPURPOSE:\nA Regular Board of Education Meeting \n\n  \n \n 
URL:https://hipark.org/event/hpsd-boe-regular-meeting-public-notice/
LOCATION:Barber Preparatory Academy\, 45 Buena Vista\, Park\, MI\, 48203\, United States
CATEGORIES:Regular Board Meetings
END:VEVENT
BEGIN:VEVENT
DTSTART;TZID=UTC:20250823T090000
DTEND;TZID=UTC:20250823T090000
DTSTAMP:20260423T160716
CREATED:20250820T220520Z
LAST-MODIFIED:20250820T220618Z
UID:1731-1755939600-1755939600@hipark.org
SUMMARY:HPSD BOE Special Meeting
DESCRIPTION:HPSD BOE Regular Meeting Public Notice \nDATE OF MEETING:\nAugust 23\, 2025 \nLOCATION OF MEETING:\nThe Board of Education Members Meet at\nBarber Preparatory Academy (In Person)\n45 E. Buena Vista St. Highland Park\, MI 48203 \nJoin Zoom Meeting\nhttps://us06web.zoom.us/i/89649291583?pwd=kHW GyEaWa62/ZntNgCTa1XENZEaKlf.1\nMeeting ID: 896 4929 1583   Passcode: 144136 \nTIME OF MEETING:\n9:00 a.m. \nTELEPHONE NUMBER OF THE PRINCIPAL OFFICE OF THE BOARD OF EDUCATION:\n313-402-0266 \nTHE BOARD MINUTES ARE LOCATED AND AVAILABLE FOR INSPECTION AT THE HPSD OFFICE OF THE BOARD OF EDUCATION:\n12360 Woodward Avenue Highland Park\, MI 48203 \nPURPOSE:\nA Regular Board of Education Meeting \n\n[button title=”View Public Notice” link=”https://hipark.org/wp-content/uploads/2025/08/2025_08_23_HPSD-BOE-Special-Meeting-Public-Notice.pdf” align=”” icon=”” icon_position=”” color=”yellow” font_color=”blue” size=”2″ full_width=”” class=”” download=”” rel=”” onclick=””]
URL:https://hipark.org/event/hpsd-boe-special-meeting/
LOCATION:Barber Preparatory Academy\, 45 Buena Vista\, Park\, MI\, 48203\, United States
CATEGORIES:Special Board Meetings
END:VEVENT
BEGIN:VEVENT
DTSTART;TZID=UTC:20250708T180000
DTEND;TZID=UTC:20250708T180000
DTSTAMP:20260423T160716
CREATED:20250716T225213Z
LAST-MODIFIED:20250820T221033Z
UID:1684-1751997600-1751997600@hipark.org
SUMMARY:HPSD BOE Regular Meeting
DESCRIPTION:HPSD BOE Regular Meeting Public Notice \nDATE OF MEETING:\nJuly 8 2025 \nLOCATION OF MEETING:\nThe Board of Education Members Meet at\nBarber Preparatory Academy (In Person)\n45 E. Buena Vista St. Highland Park\, MI 48203 \nTIME OF MEETING:\n6:00 p.m. \nTELEPHONE NUMBER OF THE PRINCIPAL OFFICE OF THE BOARD OF EDUCATION:\n313-402-0266 \nTHE BOARD MINUTES ARE LOCATED AND AVAILABLE FOR INSPECTION AT THE HPSD OFFICE OF THE BOARD OF EDUCATION:\n12360 Woodward Avenue Highland Park\, MI 48203 \nPURPOSE:\nA Regular Board of Education Meeting \n\n\n\nView Public Notice
URL:https://hipark.org/event/hpsd-boe-regular-meeting/
LOCATION:Barber Preparatory Academy\, 45 Buena Vista\, Park\, MI\, 48203\, United States
CATEGORIES:Regular Board Meetings,Regular Meeting
END:VEVENT
END:VCALENDAR