BEGIN:VCALENDAR
VERSION:2.0
PRODID:-//Highland Park School District - ECPv6.15.17.1//NONSGML v1.0//EN
CALSCALE:GREGORIAN
METHOD:PUBLISH
X-ORIGINAL-URL:https://hipark.org
X-WR-CALDESC:Events for Highland Park School District
REFRESH-INTERVAL;VALUE=DURATION:PT1H
X-Robots-Tag:noindex
X-PUBLISHED-TTL:PT1H
BEGIN:VTIMEZONE
TZID:UTC
BEGIN:STANDARD
TZOFFSETFROM:+0000
TZOFFSETTO:+0000
TZNAME:UTC
DTSTART:20250101T000000
END:STANDARD
END:VTIMEZONE
BEGIN:VTIMEZONE
TZID:America/Detroit
BEGIN:DAYLIGHT
TZOFFSETFROM:-0500
TZOFFSETTO:-0400
TZNAME:EDT
DTSTART:20250309T070000
END:DAYLIGHT
BEGIN:STANDARD
TZOFFSETFROM:-0400
TZOFFSETTO:-0500
TZNAME:EST
DTSTART:20251102T060000
END:STANDARD
BEGIN:DAYLIGHT
TZOFFSETFROM:-0500
TZOFFSETTO:-0400
TZNAME:EDT
DTSTART:20260308T070000
END:DAYLIGHT
BEGIN:STANDARD
TZOFFSETFROM:-0400
TZOFFSETTO:-0500
TZNAME:EST
DTSTART:20261101T060000
END:STANDARD
BEGIN:DAYLIGHT
TZOFFSETFROM:-0500
TZOFFSETTO:-0400
TZNAME:EDT
DTSTART:20270314T070000
END:DAYLIGHT
BEGIN:STANDARD
TZOFFSETFROM:-0400
TZOFFSETTO:-0500
TZNAME:EST
DTSTART:20271107T060000
END:STANDARD
END:VTIMEZONE
BEGIN:VEVENT
DTSTART;TZID=UTC:20260512T180000
DTEND;TZID=UTC:20260512T180000
DTSTAMP:20260423T175443
CREATED:20251108T015027Z
LAST-MODIFIED:20260226T212512Z
UID:2191-1778608800-1778608800@hipark.org
SUMMARY:HPSD BOE Regular Meeting
DESCRIPTION:HPSD BOE Regular Meeting Public Notice \nDATE OF MEETING:\nMay 12\, 2026 \nLOCATION OF MEETING:\nThe Board of Education Members Meet at\nBarber Preparatory Academy (In Person)\n45 E. Buena Vista St. Highland Park\, MI 48203 \nTIME OF MEETING:\n6:00 p.m. \nTELEPHONE NUMBER OF THE PRINCIPAL OFFICE OF THE BOARD OF EDUCATION:\n313-402-0266 \nTHE BOARD MINUTES ARE LOCATED AND AVAILABLE FOR INSPECTION AT THE HPSD OFFICE OF THE BOARD OF EDUCATION:\n12360 Woodward Avenue Highland Park\, MI 48203 \nPURPOSE:\nA Regular Board of Education Meeting \nJoin Zoom Meeting:\nMeeting ID: 840 1147 3307\nPasscode: 955655\nhttps://us06web.zoom.us/j/84011473307?pwd=Qm pGaGM3TlMvOEYwU0pVa3R4N2hYQT09 
URL:https://hipark.org/event/hpsd-boe-regular-meeting-7/
LOCATION:Barber Preparatory Academy\, 45 Buena Vista\, Park\, MI\, 48203\, United States
CATEGORIES:Regular Board Meetings
END:VEVENT
BEGIN:VEVENT
DTSTART;VALUE=DATE:20260525
DTEND;VALUE=DATE:20260526
DTSTAMP:20260423T175443
CREATED:20260227T162545Z
LAST-MODIFIED:20260227T162545Z
UID:3117-1779667200-1779753599@hipark.org
SUMMARY:School Closed/Holiday
DESCRIPTION:
URL:https://hipark.org/event/school-closed-holiday/
LOCATION:MI
CATEGORIES:Calendar
END:VEVENT
BEGIN:VEVENT
DTSTART;TZID=UTC:20260526T173000
DTEND;TZID=UTC:20260526T173000
DTSTAMP:20260423T175443
CREATED:20251108T015115Z
LAST-MODIFIED:20260226T212944Z
UID:2193-1779816600-1779816600@hipark.org
SUMMARY:HPSD BOD Regular Meeting
DESCRIPTION:HPSD BOD Regular Meeting Public Notice \nDATE OF MEETING:\nMay 26\, 2026 \nLOCATION OF MEETING:\nThe Board of Education Members Meet at\nBarber Preparatory Academy (In Person)\n45 E. Buena Vista St. Highland Park\, MI 48203 \nTIME OF MEETING:\n5:30 p.m. \nJoin Zoom Meeting:\nMeeting ID: 878 9571 7989\nPasscode: 727976\nhttps://us02web.zoom.us/j/87895717989
URL:https://hipark.org/event/hpsd-bod-regular-meeting-6/
LOCATION:Barber Preparatory Academy\, 45 Buena Vista\, Park\, MI\, 48203\, United States
CATEGORIES:Regular Meeting
END:VEVENT
BEGIN:VEVENT
DTSTART;TZID=UTC:20260609T180000
DTEND;TZID=UTC:20260609T180000
DTSTAMP:20260423T175443
CREATED:20251108T015325Z
LAST-MODIFIED:20260226T212543Z
UID:2197-1781028000-1781028000@hipark.org
SUMMARY:HPSD BOE Regular Meeting
DESCRIPTION:HPSD BOD Regular Meeting Public Notice \nDATE OF MEETING:\nJune 9\, 2026 \nLOCATION OF MEETING:\nThe Board of Education Members Meet at\nBarber Preparatory Academy (In Person)\n45 E. Buena Vista St. Highland Park\, MI 48203 \nTIME OF MEETING:\n6:00 p.m. \nJoin Zoom Meeting:\nMeeting ID: 840 1147 3307\nPasscode: 955655\nhttps://us06web.zoom.us/j/84011473307?pwd=Qm pGaGM3TlMvOEYwU0pVa3R4N2hYQT09 
URL:https://hipark.org/event/hpsd-bod-regular-meeting-7/
LOCATION:Barber Preparatory Academy\, 45 Buena Vista\, Park\, MI\, 48203\, United States
CATEGORIES:Regular Board Meetings
END:VEVENT
BEGIN:VEVENT
DTSTART;VALUE=DATE:20260612
DTEND;VALUE=DATE:20260613
DTSTAMP:20260423T175443
CREATED:20260227T162709Z
LAST-MODIFIED:20260227T162709Z
UID:3119-1781222400-1781308799@hipark.org
SUMMARY:First and Last Day of School for Students
DESCRIPTION:
URL:https://hipark.org/event/first-and-last-day-of-school-for-students/
LOCATION:MI
CATEGORIES:Calendar
END:VEVENT
BEGIN:VEVENT
DTSTART;VALUE=DATE:20260616
DTEND;VALUE=DATE:20260617
DTSTAMP:20260423T175443
CREATED:20260227T162743Z
LAST-MODIFIED:20260227T162743Z
UID:3121-1781568000-1781654399@hipark.org
SUMMARY:Last Day for Teaching Staff
DESCRIPTION:
URL:https://hipark.org/event/last-day-for-teaching-staff/
LOCATION:MI
CATEGORIES:Calendar
END:VEVENT
BEGIN:VEVENT
DTSTART;VALUE=DATE:20260619
DTEND;VALUE=DATE:20260620
DTSTAMP:20260423T175443
CREATED:20260227T162815Z
LAST-MODIFIED:20260227T162920Z
UID:3123-1781827200-1781913599@hipark.org
SUMMARY:School Closed/ Holiday
DESCRIPTION:
URL:https://hipark.org/event/school-closed-holiday-2/
LOCATION:Barber Preparatory Academy\, 45 Buena Vista\, Park\, MI\, 48203\, United States
CATEGORIES:Calendar
END:VEVENT
BEGIN:VEVENT
DTSTART;TZID=UTC:20260623T173000
DTEND;TZID=UTC:20260623T173000
DTSTAMP:20260423T175443
CREATED:20251108T015225Z
LAST-MODIFIED:20260226T213332Z
UID:2195-1782235800-1782235800@hipark.org
SUMMARY:HPSD BOD Regular Meeting
DESCRIPTION:HPSD BOE Regular Meeting Public Notice \nDATE OF MEETING:\nJune 23\, 2026 \nLOCATION OF MEETING:\nThe Board of Education Members Meet at\nBarber Preparatory Academy (In Person)\n45 E. Buena Vista St. Highland Park\, MI 48203 \nTIME OF MEETING:\n5:30 p.m. \nTELEPHONE NUMBER OF THE PRINCIPAL OFFICE OF THE BOARD OF EDUCATION:\n313-402-0266 \nTHE BOARD MINUTES ARE LOCATED AND AVAILABLE FOR INSPECTION AT THE HPSD OFFICE OF THE BOARD OF EDUCATION:\n12360 Woodward Avenue Highland Park\, MI 48203 \nPURPOSE:\nA Regular Board of Education Meeting \nJoin Zoom Meeting:\nMeeting ID: 878 9571 7989\nPasscode: 727976\nhttps://us02web.zoom.us/j/87895717989
URL:https://hipark.org/event/hpsd-boe-regular-meeting-8/
LOCATION:Barber Preparatory Academy\, 45 Buena Vista\, Park\, MI\, 48203\, United States
CATEGORIES:Regular Meeting
END:VEVENT
BEGIN:VEVENT
DTSTART;VALUE=DATE:20260704
DTEND;VALUE=DATE:20260705
DTSTAMP:20260423T175443
CREATED:20260227T162859Z
LAST-MODIFIED:20260227T162859Z
UID:3125-1783123200-1783209599@hipark.org
SUMMARY:School Closed/ Holiday
DESCRIPTION:
URL:https://hipark.org/event/school-closed-holiday-3/
LOCATION:Barber Preparatory Academy\, 45 Buena Vista\, Park\, MI\, 48203\, United States
CATEGORIES:Calendar
END:VEVENT
END:VCALENDAR