BEGIN:VCALENDAR
VERSION:2.0
PRODID:-//Highland Park School District - ECPv6.15.17.1//NONSGML v1.0//EN
CALSCALE:GREGORIAN
METHOD:PUBLISH
X-ORIGINAL-URL:https://hipark.org
X-WR-CALDESC:Events for Highland Park School District
REFRESH-INTERVAL;VALUE=DURATION:PT1H
X-Robots-Tag:noindex
X-PUBLISHED-TTL:PT1H
BEGIN:VTIMEZONE
TZID:UTC
BEGIN:STANDARD
TZOFFSETFROM:+0000
TZOFFSETTO:+0000
TZNAME:UTC
DTSTART:20240101T000000
END:STANDARD
END:VTIMEZONE
BEGIN:VEVENT
DTSTART;TZID=UTC:20260421T173000
DTEND;TZID=UTC:20260421T173000
DTSTAMP:20260423T141754
CREATED:20251108T014932Z
LAST-MODIFIED:20260226T212913Z
UID:2189-1776792600-1776792600@hipark.org
SUMMARY:HPSD BOD Regular Meeting
DESCRIPTION:HPSD BOD Regular Meeting Public Notice \nDATE OF MEETING:\nApril 21\, 2026 \nLOCATION OF MEETING:\nThe Board of Education Members Meet at\nBarber Preparatory Academy (In Person)\n45 E. Buena Vista St. Highland Park\, MI 48203 \nTIME OF MEETING:\n5:30 p.m. \nJoin Zoom Meeting:\nMeeting ID: 878 9571 7989\nPasscode: 727976\nhttps://us02web.zoom.us/j/87895717989
URL:https://hipark.org/event/hpsd-bod-regular-meeting-5/
LOCATION:Barber Preparatory Academy\, 45 Buena Vista\, Park\, MI\, 48203\, United States
CATEGORIES:Regular Meeting
END:VEVENT
BEGIN:VEVENT
DTSTART;TZID=UTC:20260324T173000
DTEND;TZID=UTC:20260324T173000
DTSTAMP:20260423T141754
CREATED:20251108T014701Z
LAST-MODIFIED:20260226T212834Z
UID:2185-1774373400-1774373400@hipark.org
SUMMARY:HPSD BOD Regular Meeting
DESCRIPTION:HPSD BOD Regular Meeting Public Notice \nDATE OF MEETING:\nMarch 24\, 2026 \nLOCATION OF MEETING:\nThe Board of Education Members Meet at\nBarber Preparatory Academy (In Person)\n45 E. Buena Vista St. Highland Park\, MI 48203 \nTIME OF MEETING:\n5:30 p.m. \nJoin Zoom Meeting:\nMeeting ID: 878 9571 7989\nPasscode: 727976\nhttps://us02web.zoom.us/j/87895717989
URL:https://hipark.org/event/hpsd-bod-regular-meeting-4/
LOCATION:Barber Preparatory Academy\, 45 Buena Vista\, Park\, MI\, 48203\, United States
CATEGORIES:Regular Meeting
END:VEVENT
BEGIN:VEVENT
DTSTART;TZID=UTC:20260224T173000
DTEND;TZID=UTC:20260224T173000
DTSTAMP:20260423T141754
CREATED:20251108T014449Z
LAST-MODIFIED:20260226T213425Z
UID:2181-1771954200-1771954200@hipark.org
SUMMARY:HPSD BOD Regular Meeting
DESCRIPTION:HPSD BOD Regular Meeting Public Notice \nDATE OF MEETING:\nFebruary 24\, 2026 \nLOCATION OF MEETING:\nThe Board of Education Members Meet at\nBarber Preparatory Academy (In Person)\n45 E. Buena Vista St. Highland Park\, MI 48203 \nTIME OF MEETING:\n5:30 p.m.
URL:https://hipark.org/event/hpsd-bod-regular-meeting-3/
LOCATION:Barber Preparatory Academy\, 45 Buena Vista\, Park\, MI\, 48203\, United States
CATEGORIES:Regular Meeting
END:VEVENT
BEGIN:VEVENT
DTSTART;TZID=UTC:20260129T173000
DTEND;TZID=UTC:20260129T173000
DTSTAMP:20260423T141754
CREATED:20251108T014325Z
LAST-MODIFIED:20251108T014325Z
UID:2179-1769707800-1769707800@hipark.org
SUMMARY:HPSD BOD Regular Meeting
DESCRIPTION:HPSD BOD Regular Meeting Public Notice \nDATE OF MEETING:\nJanuary 29\, 2026 \nLOCATION OF MEETING:\nThe Board of Education Members Meet at\nBarber Preparatory Academy (In Person)\n45 E. Buena Vista St. Highland Park\, MI 48203 \nTIME OF MEETING:\n5:30 p.m. \n  \n 
URL:https://hipark.org/event/hpsd-bod-regular-meeting-2/
LOCATION:Barber Preparatory Academy\, 45 Buena Vista\, Park\, MI\, 48203\, United States
CATEGORIES:Regular Meeting
END:VEVENT
BEGIN:VEVENT
DTSTART;TZID=UTC:20251127T173000
DTEND;TZID=UTC:20251127T173000
DTSTAMP:20260423T141754
CREATED:20251107T201739Z
LAST-MODIFIED:20251107T201739Z
UID:2173-1764264600-1764264600@hipark.org
SUMMARY:HPSD BOD Regular Meeting
DESCRIPTION:HPSD BOD Regular Meeting Public Notice \nDATE OF MEETING:\nNovember 27\, 2025 \nLOCATION OF MEETING:\nThe Board of Education Members Meet at\nBarber Preparatory Academy (In Person)\n45 E. Buena Vista St. Highland Park\, MI 48203 \nTIME OF MEETING:\n5:30 p.m.
URL:https://hipark.org/event/hpsd-bod-regular-meeting/
LOCATION:Barber Preparatory Academy\, 45 Buena Vista\, Park\, MI\, 48203\, United States
CATEGORIES:Regular Meeting
END:VEVENT
BEGIN:VEVENT
DTSTART;TZID=UTC:20250708T180000
DTEND;TZID=UTC:20250708T180000
DTSTAMP:20260423T141754
CREATED:20250716T225213Z
LAST-MODIFIED:20250820T221033Z
UID:1684-1751997600-1751997600@hipark.org
SUMMARY:HPSD BOE Regular Meeting
DESCRIPTION:HPSD BOE Regular Meeting Public Notice \nDATE OF MEETING:\nJuly 8 2025 \nLOCATION OF MEETING:\nThe Board of Education Members Meet at\nBarber Preparatory Academy (In Person)\n45 E. Buena Vista St. Highland Park\, MI 48203 \nTIME OF MEETING:\n6:00 p.m. \nTELEPHONE NUMBER OF THE PRINCIPAL OFFICE OF THE BOARD OF EDUCATION:\n313-402-0266 \nTHE BOARD MINUTES ARE LOCATED AND AVAILABLE FOR INSPECTION AT THE HPSD OFFICE OF THE BOARD OF EDUCATION:\n12360 Woodward Avenue Highland Park\, MI 48203 \nPURPOSE:\nA Regular Board of Education Meeting \n\n\n\nView Public Notice
URL:https://hipark.org/event/hpsd-boe-regular-meeting/
LOCATION:Barber Preparatory Academy\, 45 Buena Vista\, Park\, MI\, 48203\, United States
CATEGORIES:Regular Board Meetings,Regular Meeting
END:VEVENT
END:VCALENDAR