BEGIN:VCALENDAR
VERSION:2.0
PRODID:-//Highland Park School District - ECPv6.15.17.1//NONSGML v1.0//EN
CALSCALE:GREGORIAN
METHOD:PUBLISH
X-WR-CALNAME:Highland Park School District
X-ORIGINAL-URL:https://hipark.org
X-WR-CALDESC:Events for Highland Park School District
REFRESH-INTERVAL;VALUE=DURATION:PT1H
X-Robots-Tag:noindex
X-PUBLISHED-TTL:PT1H
BEGIN:VTIMEZONE
TZID:UTC
BEGIN:STANDARD
TZOFFSETFROM:+0000
TZOFFSETTO:+0000
TZNAME:UTC
DTSTART:20250101T000000
END:STANDARD
END:VTIMEZONE
BEGIN:VEVENT
DTSTART;TZID=UTC:20260310T180000
DTEND;TZID=UTC:20260310T180000
DTSTAMP:20260423T160604
CREATED:20251108T014604Z
LAST-MODIFIED:20260305T133341Z
UID:2183-1773165600-1773165600@hipark.org
SUMMARY:HPSD BOE Regular Meeting
DESCRIPTION:HPSD BOE Regular Meeting Public Notice \nDATE OF MEETING:\nMarch 10\, 2026 \nLOCATION OF MEETING:\nThe Board of Education Members Meet at\nBarber Preparatory Academy (In Person)\n45 E. Buena Vista St. Highland Park\, MI 48203 \nTIME OF MEETING:\n6:00 p.m. \nTELEPHONE NUMBER OF THE PRINCIPAL OFFICE OF THE BOARD OF EDUCATION:\n313-402-0266 \nTHE BOARD MINUTES ARE LOCATED AND AVAILABLE FOR INSPECTION AT THE HPSD OFFICE OF THE BOARD OF EDUCATION:\n12360 Woodward Avenue Highland Park\, MI 48203 \nPURPOSE:\nA Regular Board of Education Meeting \nJoin Zoom Meeting:\nMeeting ID: 840 1147 3307\nPasscode: 955655\nhttps://us06web.zoom.us/j/84011473307?pwd=Qm pGaGM3TlMvOEYwU0pVa3R4N2hYQT09  \n\n \n 
URL:https://hipark.org/event/hpsd-boe-regular-meeting-5/
LOCATION:Barber Preparatory Academy\, 45 Buena Vista\, Park\, MI\, 48203\, United States
CATEGORIES:Regular Board Meetings
END:VEVENT
END:VCALENDAR